BEGIN:VCALENDAR
VERSION:2.0
PRODID:-//wp-events-plugin.com//7.0.5//EN
TZID:America/Los_Angeles
X-WR-TIMEZONE:America/Los_Angeles
BEGIN:VEVENT
UID:0-26@supplier.kp.org
DTSTART;TZID=America/Los_Angeles:20251112T000000
DTEND;TZID=America/Los_Angeles:20251113T000000
DTSTAMP:20250509T003602Z
URL:https://supplier.kp.org/impactspending/events/veterans-in-business-net
 work-national-conference/
SUMMARY:Veterans in Business Network National Conference (Supplier Developm
 ent)
DESCRIPTION:San Diego\, CA
END:VEVENT
BEGIN:VTIMEZONE
TZID:America/Los_Angeles
X-LIC-LOCATION:America/Los_Angeles
BEGIN:STANDARD
DTSTART:20251102T010000
TZOFFSETFROM:-0700
TZOFFSETTO:-0800
TZNAME:PST
END:STANDARD
END:VTIMEZONE
END:VCALENDAR