BEGIN:VCALENDAR
VERSION:2.0
PRODID:-//wp-events-plugin.com//7.0.5//EN
TZID:America/Los_Angeles
X-WR-TIMEZONE:America/Los_Angeles
BEGIN:VEVENT
UID:0-49@supplier.kp.org
DTSTART;TZID=America/Los_Angeles;VALUE=DATE:20260622
DTEND;TZID=America/Los_Angeles;VALUE=DATE:20260626
DTSTAMP:20260223T212337Z
URL:https://supplier.kp.org/impactspending/events/trellis-impact-includes-
 verge-sustainability/
SUMMARY:Trellis Impact (includes Verge) (Sustainability)
DESCRIPTION:San Francisco\, CA
END:VEVENT
BEGIN:VTIMEZONE
TZID:America/Los_Angeles
X-LIC-LOCATION:America/Los_Angeles
BEGIN:DAYLIGHT
DTSTART:20260308T030000
TZOFFSETFROM:-0800
TZOFFSETTO:-0700
TZNAME:PDT
END:DAYLIGHT
END:VTIMEZONE
END:VCALENDAR