BEGIN:VCALENDAR
VERSION:2.0
PRODID:-//wp-events-plugin.com//7.0.5//EN
TZID:America/Los_Angeles
X-WR-TIMEZONE:America/Los_Angeles
BEGIN:VEVENT
UID:0-59@supplier.kp.org
DTSTART;TZID=America/Los_Angeles;VALUE=DATE:20260414
DTEND;TZID=America/Los_Angeles;VALUE=DATE:20260415
DTSTAMP:20260409T180037Z
URL:https://supplier.kp.org/impactspending/events/thriving-businesses-thri
 ving-communities-webinar/
SUMMARY:Thriving Businesses\, Thriving Communities Webinar (Economic Impact
 )
DESCRIPTION:Virtual\n\nTuesday\, April 14th 1pm PDT\nRegister (free) at htt
 ps://bit.ly/KPthrivingbusiness 
END:VEVENT
BEGIN:VTIMEZONE
TZID:America/Los_Angeles
X-LIC-LOCATION:America/Los_Angeles
BEGIN:DAYLIGHT
DTSTART:20260308T030000
TZOFFSETFROM:-0800
TZOFFSETTO:-0700
TZNAME:PDT
END:DAYLIGHT
END:VTIMEZONE
END:VCALENDAR