BEGIN:VCALENDAR
VERSION:2.0
PRODID:-//wp-events-plugin.com//7.0.5//EN
TZID:America/Los_Angeles
X-WR-TIMEZONE:America/Los_Angeles
BEGIN:VEVENT
UID:0-9@supplier.kp.org
DTSTART;TZID=America/Los_Angeles:20250213T000000
DTEND;TZID=America/Los_Angeles:20250213T000000
DTSTAMP:20250509T003942Z
URL:https://supplier.kp.org/impactspending/events/nba-all-star-supplier-di
 versity-event/
SUMMARY:NBA All-Star Supplier Diversity Event (Supplier Development)
DESCRIPTION:San Francisco\, CA
END:VEVENT
BEGIN:VTIMEZONE
TZID:America/Los_Angeles
X-LIC-LOCATION:America/Los_Angeles
BEGIN:STANDARD
DTSTART:20241103T010000
TZOFFSETFROM:-0700
TZOFFSETTO:-0800
TZNAME:PST
END:STANDARD
END:VTIMEZONE
END:VCALENDAR