BEGIN:VCALENDAR
VERSION:2.0
PRODID:-//wp-events-plugin.com//7.0.5//EN
TZID:America/Los_Angeles
X-WR-TIMEZONE:America/Los_Angeles
BEGIN:VEVENT
UID:0-58@supplier.kp.org
DTSTART;TZID=America/Los_Angeles;VALUE=DATE:20260426
DTEND;TZID=America/Los_Angeles;VALUE=DATE:20260427
DTSTAMP:20260409T175458Z
URL:https://supplier.kp.org/impactspending/events/lead-forwards-women-of-e
 xcellence-awards-supplier-development/
SUMMARY:Lead Forward's Women of Excellence Awards (Supplier Development)
DESCRIPTION:Fontana\, CA
END:VEVENT
BEGIN:VTIMEZONE
TZID:America/Los_Angeles
X-LIC-LOCATION:America/Los_Angeles
BEGIN:DAYLIGHT
DTSTART:20260308T030000
TZOFFSETFROM:-0800
TZOFFSETTO:-0700
TZNAME:PDT
END:DAYLIGHT
END:VTIMEZONE
END:VCALENDAR