BEGIN:VCALENDAR
VERSION:2.0
PRODID:-//wp-events-plugin.com//7.0.5//EN
TZID:America/Los_Angeles
X-WR-TIMEZONE:America/Los_Angeles
BEGIN:VEVENT
UID:0-60@supplier.kp.org
DTSTART;TZID=America/Los_Angeles;VALUE=DATE:20260427
DTEND;TZID=America/Los_Angeles;VALUE=DATE:20260429
DTSTAMP:20260409T180109Z
URL:https://supplier.kp.org/impactspending/events/icic-annual-conference/
SUMMARY:ICIC Annual Conference (Supplier Development)
DESCRIPTION:Atlanta\, GA
END:VEVENT
BEGIN:VTIMEZONE
TZID:America/Los_Angeles
X-LIC-LOCATION:America/Los_Angeles
BEGIN:DAYLIGHT
DTSTART:20260308T030000
TZOFFSETFROM:-0800
TZOFFSETTO:-0700
TZNAME:PDT
END:DAYLIGHT
END:VTIMEZONE
END:VCALENDAR